BEGIN:VCALENDAR
VERSION:2.0
PRODID:-//eventon.com NONSGML v1.0//EN
CALSCALE:GREGORIAN
METHOD:PUBLISH
BEGIN:VEVENT
UID:69e632061f978
DTSTAMP:20260420T140246Z
DTSTART:20260207
DTEND:20260208
LOCATION:Süwag Energie ARENA Silostraße 46\,  65929 Frankfurt am Main
SUMMARY:HF Final Four in Frankfurt
DESCRIPTION:12:00 Uhr MHC Damen vs. Düsseldorfer HC16:30 Uhr HTC Uhlenhors
 t Mülheim vs. MHC Herren\nhttps://www.mannheimerhc.de/events/final-four-in
 -frankfurt/
URL:https://www.mannheimerhc.de/events/final-four-in-frankfurt/
END:VEVENT
END:VCALENDAR